BEGIN:VCALENDAR
VERSION:2.0
PRODID:-//Excel Academe - ECPv6.5.1.6//NONSGML v1.0//EN
CALSCALE:GREGORIAN
METHOD:PUBLISH
X-ORIGINAL-URL:http://44.204.129.31
X-WR-CALDESC:Events for Excel Academe
REFRESH-INTERVAL;VALUE=DURATION:PT1H
X-Robots-Tag:noindex
X-PUBLISHED-TTL:PT1H
BEGIN:VTIMEZONE
TZID:UTC
BEGIN:STANDARD
TZOFFSETFROM:+0000
TZOFFSETTO:+0000
TZNAME:UTC
DTSTART:20220101T000000
END:STANDARD
END:VTIMEZONE
BEGIN:VEVENT
DTSTART;TZID=UTC:20220319T080000
DTEND;TZID=UTC:20220319T170000
DTSTAMP:20260423T172303
CREATED:20210616T094639Z
LAST-MODIFIED:20210616T094639Z
UID:1398-1647676800-1647709200@44.204.129.31
SUMMARY:Cancer support – world’s biggest coffee
DESCRIPTION:Whatever motivates you to host\, your participation has the potential to raise critical funding for cancer patients. The official date is September 24\, although you are free to celebrate whenever you like. \nWhy Join This Event\n                                     \n\n                The COVID-19 epidemic is a once-in-a-generation event that will take the best of humanity to conquer. Your contribution to this fund will help with both short- and long-term relief.\n             \n                                    \n                                                                             \nA Real Change\nThose who are not able to build we try to give them a home which is a real challenge for us.\n \n                                    \n                                                                             \nWith Big Strength\nIt takes nothing to join the crowd\, it takes everything to stand alone. So be a fountain not a drain.\n \n                                    \n                                                                             \nDonate and Help\nYour Small Donations Make A Bigger Impact On Someone’s Life\, So please donate and help us.\n \n                                    \n                                                                             \nFull Inspiration\nWe admire your compassion and commitment to assisting others. You are always willing to help us. \nThe Challenge\n															 \nCoronavirus infection is a serious hazard to the world’s population. SARS (severe acute respiratory syndrome) is a serious consequence that can arise in patients who have been infected with the coronavirus.\n							 \nCOVID-19 is more prone to the propagation of the virus in nations with a high population density than in countries with a lower population density. As a result\, defeating the Corona virus is a major challenge for us.\n							 \n											 \nSo we have to make sure the social distancing\, social service\, testing service and make the coordination better between people. That’s our biggest challenge to make sure.
URL:http://44.204.129.31/event/cancer-support-worlds-biggest-coffee/
LOCATION:Madison\, 83 Andy Street\, Madison - 78002\, 1233\, 12434\, Austria
CATEGORIES:HEALTH
ATTACH;FMTTYPE=image/jpeg:http://44.204.129.31/wp-content/uploads/2021/06/breadcrumb-6.jpg
ORGANIZER;CN="LoveIcon":MAILTO:support@gmai.com
END:VEVENT
END:VCALENDAR