BEGIN:VCALENDAR
VERSION:2.0
PRODID:-//Excel Academe - ECPv6.5.1.6//NONSGML v1.0//EN
CALSCALE:GREGORIAN
METHOD:PUBLISH
X-ORIGINAL-URL:http://44.204.129.31
X-WR-CALDESC:Events for Excel Academe
REFRESH-INTERVAL;VALUE=DURATION:PT1H
X-Robots-Tag:noindex
X-PUBLISHED-TTL:PT1H
BEGIN:VTIMEZONE
TZID:UTC
BEGIN:STANDARD
TZOFFSETFROM:+0000
TZOFFSETTO:+0000
TZNAME:UTC
DTSTART:20220101T000000
END:STANDARD
END:VTIMEZONE
BEGIN:VEVENT
DTSTART;TZID=UTC:20221130T080000
DTEND;TZID=UTC:20221130T170000
DTSTAMP:20260423T103932
CREATED:20210616T095101Z
LAST-MODIFIED:20210616T095101Z
UID:1397-1669795200-1669827600@44.204.129.31
SUMMARY:Event: Healthy Food for Growing
DESCRIPTION:Children and teenagers require the proper nutrition to grow\, learn\, and develop. This implies that your children require foods and beverages that are high in nutrients but low in calories\, fats\, and sweets\, laying a solid basis for a healthy life. \n  \nWhy Join This Event\n                                     \n\n                The COVID-19 epidemic is a once-in-a-generation event that will take the best of humanity to conquer. Your contribution to this fund will help with both short- and long-term relief.\n             \n                                    \n                                                                             \nA Real Change\nThose who are not able to build we try to give them a home which is a real challenge for us. \n                                    \n                                                                             \nWith Big Strength\nIt takes nothing to join the crowd\, it takes everything to stand alone. So be a fountain not a drain. \n                                    \n                                                                             \nDonate and Help\nYour Small Donations Make A Bigger Impact On Someone’s Life\, So please donate and help us. \n                                    \n                                                                             \nFull Inspiration\nWe admire your compassion and commitment to assisting others. You are always willing to help us. \nThe Challenge\n															 \nCoronavirus infection is a serious hazard to the world’s population. SARS (severe acute respiratory syndrome) is a serious consequence that can arise in patients who have been infected with the coronavirus.\n							 \nCOVID-19 is more prone to the propagation of the virus in nations with a high population density than in countries with a lower population density. As a result\, defeating the Corona virus is a major challenge for us.							 \n											 \nSo we have to make sure the social distancing\, social service\, testing service and make the coordination better between people. That’s our biggest challenge to make sure.
URL:http://44.204.129.31/event/educational-event-healthy-food-for-growing/
LOCATION:Madison\, 83 Andy Street\, Madison - 78002\, 1233\, 12434\, Austria
CATEGORIES:HEALTH
ATTACH;FMTTYPE=image/jpeg:http://44.204.129.31/wp-content/uploads/2021/06/breadcrumb-6.jpg
ORGANIZER;CN="LoveIcon":MAILTO:support@gmai.com
END:VEVENT
BEGIN:VEVENT
DTSTART;TZID=UTC:20240330T093000
DTEND;TZID=UTC:20240330T110000
DTSTAMP:20260423T103932
CREATED:20240226T000234Z
LAST-MODIFIED:20240226T000234Z
UID:3315-1711791000-1711796400@44.204.129.31
SUMMARY:Online Seminar on Math AMC Strategy
DESCRIPTION:
URL:http://44.204.129.31/event/online-seminar-on-math-amc-strategy/
END:VEVENT
END:VCALENDAR